BEGIN:VCALENDAR
VERSION:2.0
CALSCALE:GREGORIAN
PRODID:adamgibbons/ics
METHOD:PUBLISH
X-PUBLISHED-TTL:PT1H
BEGIN:VEVENT
UID:110@bootblack.events
SUMMARY:Bootblacking @ 20 years XXX Leather
DTSTAMP:20260424T165228Z
DTSTART:20250524T180000Z
DESCRIPTION:More info: https://fb.me/e/3aDFECmY7 [https://fb.me/e/3aDFECmY7
	]
URL:https://bootblack.events/event/bootblacking-20-years-xxx-leather
GEO:52.3746491;4.897024
LOCATION:Eagle Amsterdam - Warmoesstraat 90\, 1012 JH Amsterdam\, Netherlan
	ds
STATUS:CONFIRMED
CATEGORIES:Netherlands,Bootblack Stand,Amsterdam
X-ALT-DESC;FMTTYPE=text/html:<p>More info: <a target="_blank" href="https:/
	/fb.me/e/3aDFECmY7">https://fb.me/e/3aDFECmY7</a></p>
END:VEVENT
END:VCALENDAR
